BEGIN:VCALENDAR
VERSION:2.0
PRODID:-//Salem SDA Church - ECPv6.15.3//NONSGML v1.0//EN
CALSCALE:GREGORIAN
METHOD:PUBLISH
X-WR-CALNAME:Salem SDA Church
X-ORIGINAL-URL:https://salemsdachurch.org
X-WR-CALDESC:Events for Salem SDA Church
REFRESH-INTERVAL;VALUE=DURATION:PT1H
X-Robots-Tag:noindex
X-PUBLISHED-TTL:PT1H
BEGIN:VTIMEZONE
TZID:America/New_York
BEGIN:DAYLIGHT
TZOFFSETFROM:-0500
TZOFFSETTO:-0400
TZNAME:EDT
DTSTART:20240310T070000
END:DAYLIGHT
BEGIN:STANDARD
TZOFFSETFROM:-0400
TZOFFSETTO:-0500
TZNAME:EST
DTSTART:20241103T060000
END:STANDARD
END:VTIMEZONE
BEGIN:VTIMEZONE
TZID:UTC
BEGIN:STANDARD
TZOFFSETFROM:+0000
TZOFFSETTO:+0000
TZNAME:UTC
DTSTART:20220101T000000
END:STANDARD
END:VTIMEZONE
BEGIN:VTIMEZONE
TZID:Asia/Karachi
BEGIN:STANDARD
TZOFFSETFROM:+0500
TZOFFSETTO:+0500
TZNAME:PKT
DTSTART:20230101T000000
END:STANDARD
END:VTIMEZONE
BEGIN:VEVENT
DTSTART;TZID=America/New_York:20241102T110000
DTEND;TZID=America/New_York:20241102T130000
DTSTAMP:20260423T220951
CREATED:20240916T042242Z
LAST-MODIFIED:20240916T042242Z
UID:5342-1730545200-1730552400@salemsdachurch.org
SUMMARY:Diaconate Day - 11/02/2024
DESCRIPTION:
URL:https://salemsdachurch.org/event/diaconate-day-11-02-2024/
LOCATION:Salem Haitian SDA Church\, 674 Boggs Rd\, Mableton\, GA\, 30126\, United States
CATEGORIES:Sabbath Service
END:VEVENT
BEGIN:VEVENT
DTSTART;TZID=UTC:20240921T110000
DTEND;TZID=UTC:20240921T130000
DTSTAMP:20260423T220951
CREATED:20240916T041242Z
LAST-MODIFIED:20240916T041242Z
UID:5335-1726916400-1726923600@salemsdachurch.org
SUMMARY:Youth Day Service - 09/21/2024
DESCRIPTION:
URL:https://salemsdachurch.org/event/youth-day-service-09-21-2024/
LOCATION:Salem Haitian SDA Church\, 674 Boggs Rd\, Mableton\, GA\, 30126\, United States
CATEGORIES:Sabbath Service
END:VEVENT
BEGIN:VEVENT
DTSTART;TZID=UTC:20240204T093000
DTEND;TZID=UTC:20240204T130000
DTSTAMP:20260423T220951
CREATED:20240120T062505Z
LAST-MODIFIED:20240120T062505Z
UID:5304-1707039000-1707051600@salemsdachurch.org
SUMMARY:Sabbath Service 02/04/24
DESCRIPTION:
URL:https://salemsdachurch.org/event/sabbath-service-02-04-24/
LOCATION:Salem Haitian SDA Church\, 674 Boggs Rd\, Mableton\, GA\, 30126\, United States
CATEGORIES:Sabbath Service
END:VEVENT
BEGIN:VEVENT
DTSTART;TZID=UTC:20240121T093000
DTEND;TZID=UTC:20240121T130000
DTSTAMP:20260423T220951
CREATED:20240120T061611Z
LAST-MODIFIED:20240120T061615Z
UID:5296-1705829400-1705842000@salemsdachurch.org
SUMMARY:Sabbath Service – w/Pastor Jean Richard Desir 01/21/24
DESCRIPTION:
URL:https://salemsdachurch.org/event/sabbath-service-w-pastor-jean-richard-desir-01-21-24/
LOCATION:Salem Haitian SDA Church\, 674 Boggs Rd\, Mableton\, GA\, 30126\, United States
CATEGORIES:Sabbath Service
END:VEVENT
BEGIN:VEVENT
DTSTART;TZID=UTC:20230520T104500
DTEND;TZID=UTC:20230520T130000
DTSTAMP:20260423T220951
CREATED:20220627T002148Z
LAST-MODIFIED:20230422T162942Z
UID:5102-1684579500-1684587600@salemsdachurch.org
SUMMARY:Homecoming Service - w/Pastor Walby Philogene  05/20/23
DESCRIPTION:
URL:https://salemsdachurch.org/event/homecoming-service-05-20-23/
LOCATION:Salem Haitian SDA Church\, 674 Boggs Rd\, Mableton\, GA\, 30126\, United States
CATEGORIES:Sabbath Service
END:VEVENT
BEGIN:VEVENT
DTSTART;TZID=Asia/Karachi:20230513T100000
DTEND;TZID=Asia/Karachi:20230513T130000
DTSTAMP:20260423T220951
CREATED:20220622T032256Z
LAST-MODIFIED:20230422T162721Z
UID:5077-1683972000-1683982800@salemsdachurch.org
SUMMARY:Sabbath Service 05/13/23
DESCRIPTION:
URL:https://salemsdachurch.org/event/sabbath-service-05-13-23/
LOCATION:Salem Haitian SDA Church\, 674 Boggs Rd\, Mableton\, GA\, 30126\, United States
CATEGORIES:Sabbath Service
END:VEVENT
BEGIN:VEVENT
DTSTART;TZID=UTC:20230506T110000
DTEND;TZID=UTC:20230506T130000
DTSTAMP:20260423T220951
CREATED:20220622T040027Z
LAST-MODIFIED:20230422T162642Z
UID:5085-1683370800-1683378000@salemsdachurch.org
SUMMARY:Sabbath Service 05/06/23
DESCRIPTION:
URL:https://salemsdachurch.org/event/sabbath-service-05-06-23/
LOCATION:Salem Haitian SDA Church\, 674 Boggs Rd\, Mableton\, GA\, 30126\, United States
CATEGORIES:Sabbath Service
END:VEVENT
BEGIN:VEVENT
DTSTART;TZID=UTC:20230429T110000
DTEND;TZID=UTC:20230429T130000
DTSTAMP:20260423T220951
CREATED:20220927T220114Z
LAST-MODIFIED:20230422T161920Z
UID:5160-1682766000-1682773200@salemsdachurch.org
SUMMARY:Health Day Service 04/29/23
DESCRIPTION:
URL:https://salemsdachurch.org/event/health-day-04-29-23/
LOCATION:Salem Haitian SDA Church\, 674 Boggs Rd\, Mableton\, GA\, 30126\, United States
CATEGORIES:Sabbath Service
END:VEVENT
BEGIN:VEVENT
DTSTART;TZID=UTC:20221022T080000
DTEND;TZID=UTC:20221022T140000
DTSTAMP:20260423T220951
CREATED:20220927T220253Z
LAST-MODIFIED:20220927T220254Z
UID:5162-1666425600-1666447200@salemsdachurch.org
SUMMARY:Pathfinder Investiture | Salem Sabbath Service 10/22
DESCRIPTION:
URL:https://salemsdachurch.org/event/pathfinder-investiture-salem-sabbath-service-10-22/
LOCATION:Salem Haitian SDA Church\, 674 Boggs Rd\, Mableton\, GA\, 30126\, United States
CATEGORIES:Sabbath Service
END:VEVENT
END:VCALENDAR